BEGIN:VCALENDAR
VERSION:2.0
PRODID:spatie/icalendar-generator
DESCRIPTION:Veranstaltungen von Deutsches Netzwerk Büro e. V.
X-WR-CALDESC:Veranstaltungen von Deutsches Netzwerk Büro e. V.
REFRESH-INTERVAL;VALUE=DURATION:PT1440M
X-PUBLISHED-TTL:PT1440M
BEGIN:VTIMEZONE
TZID:Europe/Berlin
BEGIN:STANDARD
DTSTART:20171029T030000Z
TZOFFSETFROM:+0200
TZOFFSETTO:+0100
END:STANDARD
BEGIN:DAYLIGHT
DTSTART:20180325T020000Z
TZOFFSETFROM:+0100
TZOFFSETTO:+0200
END:DAYLIGHT
BEGIN:STANDARD
DTSTART:20181028T030000Z
TZOFFSETFROM:+0200
TZOFFSETTO:+0100
END:STANDARD
END:VTIMEZONE
BEGIN:VTIMEZONE
TZID:UTC
BEGIN:STANDARD
DTSTART:20250728T202157Z
TZOFFSETFROM:+0000
TZOFFSETTO:+0000
END:STANDARD
END:VTIMEZONE
BEGIN:VEVENT
UID:56-45
DTSTAMP:20260424T202157Z
SUMMARY:Die Zukunft gestalten
LOCATION:
ORGANIZER;CN=primavier:MAILTO:rn@office-roxx.de
DTSTART;TZID=Europe/Berlin:20180625T093000
DTEND;TZID=Europe/Berlin:20180625T183000
X-ALT-DESC;FMTTYPE=TEXT/HTML:Anlässlich des 30. Geburtstags der weltweit e
 inzigen Fabrikgebäude\, die von Pritzker-Preisträger Frei Otto entworfen
  und realisiert wurden\, lädt Möbelhersteller Wilkhahn am 25. Juni 2018 
 zu einem Architektur-Symposium auf dem Firmengelände in Bad Münder bei H
 annover ein. Unter dem Namen „Die Zukunft gestalten – Frei Ottos ideel
 les Erbe“ werden namhafte Referentinnen und Referenten die Transformatio
 n wesentlicher&amp;hellip\;
CATEGORIES:General
URL;VALUE=URI:
METHOD:PUBLISH
END:VEVENT
END:VCALENDAR