BEGIN:VCALENDAR
VERSION:2.0
PRODID:spatie/icalendar-generator
DESCRIPTION:Veranstaltungen von Deutsches Netzwerk Büro e. V.
X-WR-CALDESC:Veranstaltungen von Deutsches Netzwerk Büro e. V.
REFRESH-INTERVAL;VALUE=DURATION:PT1440M
X-PUBLISHED-TTL:PT1440M
BEGIN:VTIMEZONE
TZID:Europe/Berlin
BEGIN:STANDARD
DTSTART:20171029T030000Z
TZOFFSETFROM:+0200
TZOFFSETTO:+0100
END:STANDARD
BEGIN:DAYLIGHT
DTSTART:20180325T020000Z
TZOFFSETFROM:+0100
TZOFFSETTO:+0200
END:DAYLIGHT
BEGIN:STANDARD
DTSTART:20181028T030000Z
TZOFFSETFROM:+0200
TZOFFSETTO:+0100
END:STANDARD
END:VTIMEZONE
BEGIN:VTIMEZONE
TZID:UTC
BEGIN:STANDARD
DTSTART:20250728T201838Z
TZOFFSETFROM:+0000
TZOFFSETTO:+0000
END:STANDARD
END:VTIMEZONE
BEGIN:VEVENT
UID:55-44
DTSTAMP:20260424T201838Z
SUMMARY:FAMAB-Sustainability Summit
LOCATION:
ORGANIZER;CN=primavier:MAILTO:rn@office-roxx.de
DTSTART;TZID=Europe/Berlin:20180618T083000
DTEND;TZID=Europe/Berlin:20180618T180000
X-ALT-DESC;FMTTYPE=TEXT/HTML:Der Branchenverband für Messe und Event (FAMA
 B) veranstaltet am 18. Juni 2018 im Kongresszentrum der Dortmunder Westfal
 enhallen die zweite Auflage des FAMAB-Sustainability Summit. Der FAMAB-Sus
 tainability Summit wird nicht nur über die nachhaltigen Entwicklungen am 
 Markt informieren\, sondern ist vielmehr auch eine Plattform für Dialog u
 nd Austausch. Messebau und Medientechnikunternehmen\, Cateringbetriebe und
  Eventagenturen sowie Eventlocations und&amp;hellip\;
CATEGORIES:General
URL;VALUE=URI:
METHOD:PUBLISH
END:VEVENT
END:VCALENDAR