BEGIN:VCALENDAR
VERSION:2.0
PRODID:spatie/icalendar-generator
DESCRIPTION:Veranstaltungen von Deutsches Netzwerk Büro e. V.
X-WR-CALDESC:Veranstaltungen von Deutsches Netzwerk Büro e. V.
REFRESH-INTERVAL;VALUE=DURATION:PT1440M
X-PUBLISHED-TTL:PT1440M
BEGIN:VTIMEZONE
TZID:Europe/Berlin
BEGIN:STANDARD
DTSTART:20171029T030000Z
TZOFFSETFROM:+0200
TZOFFSETTO:+0100
END:STANDARD
BEGIN:DAYLIGHT
DTSTART:20180325T020000Z
TZOFFSETFROM:+0100
TZOFFSETTO:+0200
END:DAYLIGHT
BEGIN:STANDARD
DTSTART:20181028T030000Z
TZOFFSETFROM:+0200
TZOFFSETTO:+0100
END:STANDARD
END:VTIMEZONE
BEGIN:VTIMEZONE
TZID:UTC
BEGIN:STANDARD
DTSTART:20250728T202453Z
TZOFFSETFROM:+0000
TZOFFSETTO:+0000
END:STANDARD
END:VTIMEZONE
BEGIN:VEVENT
UID:52-41
DTSTAMP:20260424T202453Z
SUMMARY:B.A.U.M. Netzwerktreffen
LOCATION:
ORGANIZER;CN=primavier:MAILTO:rn@office-roxx.de
DTSTART;TZID=Europe/Berlin:20180615T143000
DTEND;TZID=Europe/Berlin:20180616T153000
X-ALT-DESC;FMTTYPE=TEXT/HTML:Die Mitglieder des Netzwerks des Bundesdeutsch
 er Arbeitskreis für Umweltbewusstes Management (B.A.U.M.) e.V. treffen si
 ch vom 15. bis 16. Juni in den Räumlichkeiten der Deutschen Bundesstiftun
 g Umwelt (DBU) in Osnabrück\, um über die Sustainable Developement Goals
  (SDGs) der Vereinten Nationen für Unternehmen zu diskutieren. Das Netzwe
 rktreffen dient dem Kennenlernen der Aktivitäten von B.A.U.M. und seinen 
 Mitgliedsunternehmen.&amp;hellip\;
CATEGORIES:General
URL;VALUE=URI:
METHOD:PUBLISH
END:VEVENT
END:VCALENDAR