BEGIN:VCALENDAR
VERSION:2.0
PRODID:spatie/icalendar-generator
DESCRIPTION:Veranstaltungen von Deutsches Netzwerk Büro e. V.
X-WR-CALDESC:Veranstaltungen von Deutsches Netzwerk Büro e. V.
REFRESH-INTERVAL;VALUE=DURATION:PT1440M
X-PUBLISHED-TTL:PT1440M
BEGIN:VTIMEZONE
TZID:Europe/Berlin
BEGIN:STANDARD
DTSTART:20171029T030000Z
TZOFFSETFROM:+0200
TZOFFSETTO:+0100
END:STANDARD
BEGIN:DAYLIGHT
DTSTART:20180325T020000Z
TZOFFSETFROM:+0100
TZOFFSETTO:+0200
END:DAYLIGHT
BEGIN:STANDARD
DTSTART:20181028T030000Z
TZOFFSETFROM:+0200
TZOFFSETTO:+0100
END:STANDARD
END:VTIMEZONE
BEGIN:VTIMEZONE
TZID:UTC
BEGIN:STANDARD
DTSTART:20250728T192333Z
TZOFFSETFROM:+0000
TZOFFSETTO:+0000
END:STANDARD
END:VTIMEZONE
BEGIN:VEVENT
UID:50-39
DTSTAMP:20260424T192333Z
SUMMARY:Zukunftskonferenz Wissensarbeit und Gesundheit
LOCATION:
ORGANIZER;CN=primavier:MAILTO:rn@office-roxx.de
DTSTART;TZID=Europe/Berlin:20180627T100000
DTEND;TZID=Europe/Berlin:20180627T160000
X-ALT-DESC;FMTTYPE=TEXT/HTML:Das Deutsche Netzwerk Büro e.V. veranstaltet 
 am 27. Juni 2018 einen Innovationskongress für gesundheitsfördernde Arbe
 itsumgebungen\, der sowohl Konzepte und Produkte als auch Ideengeber und N
 utzer zusammenführen möchte. Mangelnde Bewegung und monotone\, starre Ha
 ltungsformen gehören zu den Hauptursachen für krankheitsbedingte Fehlzei
 ten in Büros. Im Kontext der stetig zunehmenden Bedeutung der Wissensarbe
 it – getrieben durch disruptive Arbeitswelten&amp;hellip\;
CATEGORIES:General
URL;VALUE=URI:
METHOD:PUBLISH
END:VEVENT
END:VCALENDAR