BEGIN:VCALENDAR
VERSION:2.0
PRODID:spatie/icalendar-generator
DESCRIPTION:Veranstaltungen von Deutsches Netzwerk Büro e. V.
X-WR-CALDESC:Veranstaltungen von Deutsches Netzwerk Büro e. V.
REFRESH-INTERVAL;VALUE=DURATION:PT1440M
X-PUBLISHED-TTL:PT1440M
BEGIN:VTIMEZONE
TZID:Europe/Berlin
BEGIN:STANDARD
DTSTART:20171029T030000Z
TZOFFSETFROM:+0200
TZOFFSETTO:+0100
END:STANDARD
BEGIN:DAYLIGHT
DTSTART:20180325T020000Z
TZOFFSETFROM:+0100
TZOFFSETTO:+0200
END:DAYLIGHT
BEGIN:STANDARD
DTSTART:20181028T030000Z
TZOFFSETFROM:+0200
TZOFFSETTO:+0100
END:STANDARD
END:VTIMEZONE
BEGIN:VTIMEZONE
TZID:UTC
BEGIN:STANDARD
DTSTART:20250728T203007Z
TZOFFSETFROM:+0000
TZOFFSETTO:+0000
END:STANDARD
END:VTIMEZONE
BEGIN:VEVENT
UID:48-37
DTSTAMP:20260424T203007Z
SUMMARY:Einführungsworkshop Design Thinking
LOCATION:
ORGANIZER;CN=primavier:MAILTO:rn@office-roxx.de
DTSTART;TZID=Europe/Berlin:20180529T235900
DTEND;TZID=Europe/Berlin:20180529T235900
X-ALT-DESC;FMTTYPE=TEXT/HTML:Am 29. Mai 2018 findet in der Dockland Nordaka
 demie Graduate School in Hamburg ein offener Workshop zum Thema Design Thi
 nking statt. Veranstaltet wird der Workshop von B.A.U.M. e. V. in Kooperat
 ion mit der Agentur Protellus. In dem Einführungsworkshop Design Thinking
  lernen die Teilnehmenden\, wie sie innovative und nutzerzentrierte Produk
 te und Dienstleistungen entwickeln\, Teamarbeit und multidisziplinäre&amp;hel
 lip\;
CATEGORIES:General
URL;VALUE=URI:
METHOD:PUBLISH
END:VEVENT
END:VCALENDAR