BEGIN:VCALENDAR
VERSION:2.0
PRODID:spatie/icalendar-generator
DESCRIPTION:Veranstaltungen von Deutsches Netzwerk Büro e. V.
X-WR-CALDESC:Veranstaltungen von Deutsches Netzwerk Büro e. V.
REFRESH-INTERVAL;VALUE=DURATION:PT1440M
X-PUBLISHED-TTL:PT1440M
BEGIN:VTIMEZONE
TZID:Europe/Berlin
BEGIN:STANDARD
DTSTART:20251026T030000Z
TZOFFSETFROM:+0200
TZOFFSETTO:+0100
END:STANDARD
BEGIN:DAYLIGHT
DTSTART:20260329T020000Z
TZOFFSETFROM:+0100
TZOFFSETTO:+0200
END:DAYLIGHT
BEGIN:STANDARD
DTSTART:20261025T030000Z
TZOFFSETFROM:+0200
TZOFFSETTO:+0100
END:STANDARD
END:VTIMEZONE
BEGIN:VTIMEZONE
TZID:UTC
BEGIN:STANDARD
DTSTART:20250728T190215Z
TZOFFSETFROM:+0000
TZOFFSETTO:+0000
END:STANDARD
END:VTIMEZONE
BEGIN:VEVENT
UID:146-129
DTSTAMP:20260424T190215Z
SUMMARY:Bewegung-Offensive Deutschland: Gegen Sitzkrankheiten hilft kein H
 ändewaschen
LOCATION:Webinar
ORGANIZER;CN=vorstand:MAILTO:info@office-roxx.de
DTSTART;TZID=Europe/Berlin:20260414T140000
DTEND;TZID=Europe/Berlin:20260414T150000
X-ALT-DESC;FMTTYPE=TEXT/HTML:
CATEGORIES:General
URL;VALUE=URI:
METHOD:PUBLISH
END:VEVENT
BEGIN:VEVENT
UID:136-119
DTSTAMP:20260424T190215Z
SUMMARY:Potenziale neuer Technologien heben: Auf dem Weg zur Digitalkultur
LOCATION:Webinar
ORGANIZER;CN=vorstand:MAILTO:info@office-roxx.de
DTSTART;TZID=Europe/Berlin:20260417T100000
DTEND;TZID=Europe/Berlin:20260417T110000
X-ALT-DESC;FMTTYPE=TEXT/HTML:
CATEGORIES:General
URL;VALUE=URI:
METHOD:PUBLISH
END:VEVENT
BEGIN:VEVENT
UID:139-122
DTSTAMP:20260424T190215Z
SUMMARY:Beta Work – Arbeit im Modus permanenter Anpassung
LOCATION:
ORGANIZER;CN=vorstand:MAILTO:info@office-roxx.de
DTSTART;TZID=Europe/Berlin:20260428T140000
DTEND;TZID=Europe/Berlin:20260428T150000
X-ALT-DESC;FMTTYPE=TEXT/HTML:
CATEGORIES:General
URL;VALUE=URI:
METHOD:PUBLISH
END:VEVENT
END:VCALENDAR